BEGIN:VCALENDAR
VERSION:2.0
PRODID:-//wp-events-plugin.com//7.2.2.1//EN
TZID:Europe/Berlin
X-WR-TIMEZONE:Europe/Berlin
BEGIN:VEVENT
UID:13527@familyandfriends-eckental.de
DTSTART;TZID=Europe/Berlin:20240603T190000
DTEND;TZID=Europe/Berlin:20240722T200000
DTSTAMP:20240523T103001Z
URL:https://www.familyandfriends-eckental.de/kurse/%e2%80%bc%ef%b8%8fyoga-
 am-abend-fuer-die-frau-online%e2%80%bc%ef%b8%8f/
SUMMARY:‼️YOGA am Abend für die Frau - ONLINE‼️
DESCRIPTION:Kurseinheiten\n\n8 x 60 Min.\nIhr erhaltet vor Kursbeginn eine 
 Infomail\, mit allen wichtigen Infos und den Zahlungsbedingungen.\nEine YO
 GA-Matte stellen wir Dir zur Verfügung.
CATEGORIES:Dauerkurs,Normalkurs
END:VEVENT
BEGIN:VTIMEZONE
TZID:Europe/Berlin
X-LIC-LOCATION:Europe/Berlin
BEGIN:DAYLIGHT
DTSTART:20240331T030000
TZOFFSETFROM:+0100
TZOFFSETTO:+0200
TZNAME:CEST
END:DAYLIGHT
END:VTIMEZONE
END:VCALENDAR