BEGIN:VCALENDAR
VERSION:2.0
PRODID:-//wp-events-plugin.com//7.2.2.1//EN
TZID:Europe/Berlin
X-WR-TIMEZONE:Europe/Berlin
BEGIN:VEVENT
UID:13343@familyandfriends-eckental.de
DTSTART;TZID=Europe/Berlin:20250213T150000
DTEND;TZID=Europe/Berlin:20250213T180000
DTSTAMP:20250117T135239Z
URL:https://www.familyandfriends-eckental.de/kurse/gratis-schnupperstunde-
 englische-frueherziehung-2/
SUMMARY:Gratis Schnupperstunde "Englische Früherziehung"
DESCRIPTION:Gebt bei der Anmeldung bitte eure Mobilfunknummer mit an.\n\nF
 ür eine einfache Kommunikation bilden wir eine WhatsApp-Gruppe für diese
 n Kurs. Dort könnt ihr Fragen stellen und erhaltet wichtige Informationen
  des Kursleiters.\n\n__________________________________\n\nHier unten auf 
 der Seite registriert ihr Euch für den GRATIS-Schnuppertermin für 45 Min
 uten. Die Zeiteinteilung erfolgt nach allen Anmeldungen und wird rechtzeit
 ig vor dem Termin per eMail bekanntgegeben.\n\nGern möchten wir noch auf 
 Fragen eingehen\, die oft gestellt werden wenn ihr Euch für den Kurs ents
 cheidet.\n\nWieviele Einheiten wird es geben?\nSechs Monate einmal pro Woc
 he gibt es eine 45minütige Stunde am Montagnachmittag.\n\nDer Kurs beginn
 t dann am 20. Februar 2025.\n\nEs finden insgesamt 24 Kurseinheiten statt.
  Da es sich hierbei um einen "Hybridkurs" handelt\, können Kinder präsen
 z oder auch ausschließlich nur online teilnehmen. Die Präsenz-Kinder\, d
 ie mal krank oder anderweitig verhindert sind\, könne dann selbstverstän
 dlich trotzdem online dabei sein und verpassen somit keine Stunde. Der Lin
 k für eine Online-Teilnahme wird vor Kursbeginn rechtzeitig per eMail ver
 sandt.\n\nDer Kurs kann dann nach Ablauf der 24 Einheiten immer weiter fü
 r jeweils 24 Einheiten verlängert werden um immer weiter aufzubauen wenn 
 ihr möchtet.\n\nIst der Kurs mit oder ohne Eltern?\n\nAm aufmerksamsten s
 ind die Kinder erfahrungsgemäß ohne Eltern ... dies ist unsere Empfehlun
 g. Wenn es aber nur mit einem Elternteil für das Kind funktioniert\, geht
  das selbstverständlich auch. Für die gesamte Gruppe und die Arbeit der 
 Kursleiterin ist es aber besser ohne die Eltern. Dies besprechen und entsc
 heiden dann Eltern und Kursleiterin gemeinsam.\n\nIst der Kurs auch für E
 nglisch-Anfänger geeignet?\n\nAbsolut! Anfänger als auch Kinder mit Vork
 enntnissen profitieren hier.\n\nWir freuen uns auf Euch zum GRATIS-Schnupp
 ertermin. Bitte hier nun dafür anmelden:
END:VEVENT
BEGIN:VTIMEZONE
TZID:Europe/Berlin
X-LIC-LOCATION:Europe/Berlin
BEGIN:STANDARD
DTSTART:20241027T020000
TZOFFSETFROM:+0200
TZOFFSETTO:+0100
TZNAME:CET
END:STANDARD
END:VTIMEZONE
END:VCALENDAR