BEGIN:VCALENDAR
VERSION:2.0
PRODID:-//wp-events-plugin.com//7.2.2.1//EN
TZID:Europe/Berlin
X-WR-TIMEZONE:Europe/Berlin
BEGIN:VEVENT
UID:13189@familyandfriends-eckental.de
DTSTART;TZID=Europe/Berlin:20231109T110000
DTEND;TZID=Europe/Berlin:20231109T130000
DTSTAMP:20231027T131048Z
URL:https://www.familyandfriends-eckental.de/kurse/infoveranstaltung-fuer-
 unsere-pflegeproduktreihe-fuer-die-ganze-familie/
SUMMARY:Infoveranstaltung für unsere Pflegeproduktreihe für die ganze Fam
 ilie
DESCRIPTION:Veranstaltungsort:\n\nCandys Cafe in Nürnberg\, Löbleinstraß
 e 60\n\nThema: Pflege für den Alltag\, besonders für Eltern.\n\nKinder s
 ind Willkommen
END:VEVENT
BEGIN:VTIMEZONE
TZID:Europe/Berlin
X-LIC-LOCATION:Europe/Berlin
BEGIN:STANDARD
DTSTART:20231029T020000
TZOFFSETFROM:+0200
TZOFFSETTO:+0100
TZNAME:CET
END:STANDARD
END:VTIMEZONE
END:VCALENDAR