BEGIN:VCALENDAR
VERSION:2.0
PRODID:-//wp-events-plugin.com//7.2.2.1//EN
TZID:Europe/Berlin
X-WR-TIMEZONE:Europe/Berlin
BEGIN:VEVENT
UID:12910@familyandfriends-eckental.de
DTSTART;TZID=Europe/Berlin:20230817T154500
DTEND;TZID=Europe/Berlin:20231005T164500
DTSTAMP:20230710T133558Z
URL:https://www.familyandfriends-eckental.de/kurse/miniclub-2-5/
SUMMARY:Miniclub 2 ca. 2-4 Jahre
DESCRIPTION:Kurseinheiten\n\n8 x 60 Min.\n\nDie Kursgebühr bitte zum erste
 n Kurstreffen bei Deiner Kursleiterin entrichten.\n\nBuchungsbedingungen\n
 \nFür unsere EMS-Mitglieder gilt:\n\n \n\nHierzu bitte im Kommentarfeld "
 EMS-Mitglied" angeben!\n\n(Noch kein Mitglied? Buch gern HIER Deine 2x GRA
 TIS-Probetrainings.)
CATEGORIES:Normalkurs
END:VEVENT
BEGIN:VTIMEZONE
TZID:Europe/Berlin
X-LIC-LOCATION:Europe/Berlin
BEGIN:DAYLIGHT
DTSTART:20230326T030000
TZOFFSETFROM:+0100
TZOFFSETTO:+0200
TZNAME:CEST
END:DAYLIGHT
END:VTIMEZONE
END:VCALENDAR